BEGIN:VCALENDAR
VERSION:2.0
PRODID:-//Yonkers Tennis Center - ECPv6.15.20//NONSGML v1.0//EN
CALSCALE:GREGORIAN
METHOD:PUBLISH
X-WR-CALNAME:Yonkers Tennis Center
X-ORIGINAL-URL:https://yonkerstennis.com
X-WR-CALDESC:Events for Yonkers Tennis Center
REFRESH-INTERVAL;VALUE=DURATION:PT1H
X-Robots-Tag:noindex
X-PUBLISHED-TTL:PT1H
BEGIN:VTIMEZONE
TZID:UTC
BEGIN:STANDARD
TZOFFSETFROM:+0000
TZOFFSETTO:+0000
TZNAME:UTC
DTSTART:20230101T000000
END:STANDARD
END:VTIMEZONE
BEGIN:VTIMEZONE
TZID:America/New_York
BEGIN:DAYLIGHT
TZOFFSETFROM:-0500
TZOFFSETTO:-0400
TZNAME:EDT
DTSTART:20240310T070000
END:DAYLIGHT
BEGIN:STANDARD
TZOFFSETFROM:-0400
TZOFFSETTO:-0500
TZNAME:EST
DTSTART:20241103T060000
END:STANDARD
BEGIN:DAYLIGHT
TZOFFSETFROM:-0500
TZOFFSETTO:-0400
TZNAME:EDT
DTSTART:20250309T070000
END:DAYLIGHT
BEGIN:STANDARD
TZOFFSETFROM:-0400
TZOFFSETTO:-0500
TZNAME:EST
DTSTART:20251102T060000
END:STANDARD
BEGIN:DAYLIGHT
TZOFFSETFROM:-0500
TZOFFSETTO:-0400
TZNAME:EDT
DTSTART:20260308T070000
END:DAYLIGHT
BEGIN:STANDARD
TZOFFSETFROM:-0400
TZOFFSETTO:-0500
TZNAME:EST
DTSTART:20261101T060000
END:STANDARD
END:VTIMEZONE
BEGIN:VEVENT
DTSTART;TZID=UTC:20240405T200000
DTEND;TZID=UTC:20240405T200000
DTSTAMP:20260423T153651
CREATED:20240401T185821Z
LAST-MODIFIED:20240401T194842Z
UID:7934-1712347200-1712347200@yonkerstennis.com
SUMMARY:UTR Adult Matchplay
DESCRIPTION:Single Format \nRegister with the front desk and also register on the UTR website: www.utrsports.net to be credited with match results
URL:https://yonkerstennis.com/event/utr-adult-matchplay/
LOCATION:Yonkers Tennis Center\, 493 Sprain Road\, Yonkers\, NY\, 10710\, United States
CATEGORIES:Club
ATTACH;FMTTYPE=image/jpeg:https://yonkerstennis.com/wp-content/uploads/2024/04/UTR-Adult-Matchplay-April-5-01.jpg
END:VEVENT
BEGIN:VEVENT
DTSTART;TZID=UTC:20240406T200000
DTEND;TZID=UTC:20240406T200000
DTSTAMP:20260423T153651
CREATED:20240401T194013Z
LAST-MODIFIED:20240401T194655Z
UID:7949-1712433600-1712433600@yonkerstennis.com
SUMMARY:Pickleball Party Night
DESCRIPTION:48 players pickleballin’ during 2 hours of level appropriate round robin play!\nEnjoy music and light refreshments throughout the night.\nMust have pickleball playing & scoring experience.\nSign up with the front desk: 914 968 6918 ext 0 or frontdesk@yonkerstennis.com
URL:https://yonkerstennis.com/event/pickleball-party-night/
LOCATION:Yonkers Tennis Center\, 493 Sprain Road\, Yonkers\, NY\, 10710\, United States
CATEGORIES:Club
ATTACH;FMTTYPE=image/jpeg:https://yonkerstennis.com/wp-content/uploads/2024/04/Pickle-Party-night-01.jpg
END:VEVENT
BEGIN:VEVENT
DTSTART;VALUE=DATE:20250405
DTEND;VALUE=DATE:20250406
DTSTAMP:20260423T153651
CREATED:20250401T135357Z
LAST-MODIFIED:20250401T135357Z
UID:10307-1743811200-1743897599@yonkerstennis.com
SUMMARY:JR. Summer Preview
DESCRIPTION:
URL:https://yonkerstennis.com/event/jr-summer-preview/
ATTACH;FMTTYPE=image/png:https://yonkerstennis.com/wp-content/uploads/2025/04/Junior-Summer-Preview-2025-Flyer.png
END:VEVENT
END:VCALENDAR